BEGIN:VCALENDAR
VERSION:2.0
PRODID:icalendar-ruby
CALSCALE:GREGORIAN
METHOD:PUBLISH
BEGIN:VEVENT
DTSTAMP:20260424T151905Z
UID:187-1131702@fumcmh.org
DTSTART:20260608T140000Z
DTEND:20260611T163000Z
CLASS:PUBLIC
CREATED:20260423T104153
DESCRIPTION:VBS 2026 REGISTRATION 2026 IS NOW OPEN! At VBS Rome - Paul and 
 the Underground Church we will step back in time to Rome\, exploring the l
 ife of the apostle Paul and the underground church. Kids will participate 
 in a memorable Bible-times marketplace\, sing catchy songs\, play teamwork
 -building games\, dig in to Roman eats\, visit Paul while he’s under hou
 se arrest\, and collect Bible Memory Makers to remind them of God’s Word
 . Each day begins and concludes with a time of upbeat worship that gets ev
 eryone involved. Kids will even have the opportunity for a local mission a
 s they bring donations that will help feed families in need in our own loc
 al community.
LAST-MODIFIED:20260423T104153
LOCATION:First United Methodist Church 605 W 6th St. Mountain Home\, AR 726
 53
SUMMARY:VBS 2026
URL;VALUE=URI:https://fumcmh.org/events/vbs-2026/2026-06-08
ATTACH;FILENAME=VBS 2026 no qr.jpg;FMTTYPE=image/jpeg:https://dq5pwpg1q8ru0
 .cloudfront.net/2026/04/23/15/41/25/d05c0166-a968-4f47-b88a-32a73691faa7/V
 BS%202026%20no%20qr.jpg
END:VEVENT
END:VCALENDAR
